BEGIN:VCALENDAR
VERSION:2.0
PRODID:-//Tukios.com/
BEGIN:VEVENT
UID:43654410-3749-4ac4-b88e-57752f0f024b@www.davidsonfuneralhome.net
DTSTAMP:20260422T201622Z
DTSTART:20260424T220000Z
DTEND:20260425T000000Z
SUMMARY:Visitation
DESCRIPTION:
URL:https://www.davidsonfuneralhome.net/obituaries/frances-berrier
LOCATION:Davidson Funeral Home 301 N Main St  Lexington NC 27292
GEO:35.8254785;-80.2501789
END:VEVENT
END:VCALENDAR