BEGIN:VCALENDAR
VERSION:2.0
PRODID:-//Tukios.com/
BEGIN:VEVENT
UID:c9157285-ad8a-432d-bf57-a5d5e67a4486@www.davidsonfuneralhome.net
DTSTAMP:20260422T201155Z
DTSTART:20260425T150000Z
DTEND:20260425T160000Z
SUMMARY:Funeral Service
DESCRIPTION:
URL:https://www.davidsonfuneralhome.net/obituaries/frances-berrier
LOCATION:Davidson Funeral Home 301 N Main St  Lexington NC 27292
GEO:35.8254785;-80.2501789
END:VEVENT
END:VCALENDAR