BEGIN:VCALENDAR
VERSION:2.0
PRODID:-//Tukios.com/
BEGIN:VEVENT
UID:28af524f-2a7b-4e27-a666-8dec1e849797@www.davidsonfuneralhome.net
DTSTAMP:20260421T003331Z
DTSTART:20260422T163000Z
DTEND:20260422T173000Z
SUMMARY:Visitation
DESCRIPTION:
URL:https://www.davidsonfuneralhome.net/obituaries/franklin-brown
LOCATION:Davidson Funeral Home 301 N Main St  Lexington NC 27292
GEO:35.8254785;-80.2501789
END:VEVENT
END:VCALENDAR