BEGIN:VCALENDAR
VERSION:2.0
PRODID:-//Tukios.com/
BEGIN:VEVENT
UID:d9ffba9b-3c17-4347-a4c8-abb81a522d0c@www.davidsonfuneralhome.net
DTSTAMP:20260425T233537Z
DTSTART:20260501T170000Z
DTEND:20260501T174500Z
SUMMARY:Visitation
DESCRIPTION:
URL:https://www.davidsonfuneralhome.net/obituaries/fred-hankins
LOCATION:Davidson Funeral Home 301 N Main St  Lexington NC 27292
GEO:35.8254785;-80.2501789
END:VEVENT
END:VCALENDAR