BEGIN:VCALENDAR
VERSION:2.0
PRODID:-//Tukios.com/
BEGIN:VEVENT
UID:b81ed0ec-b0a4-479f-866e-ab6833ac0503@www.davidsonfuneralhome.net
DTSTAMP:20260425T233012Z
DTSTART:20260501T180000Z
DTEND:20260501T190000Z
SUMMARY:Graveside Service
DESCRIPTION:
URL:https://www.davidsonfuneralhome.net/obituaries/fred-hankins
LOCATION:Forest Hill Memorial Park 1307 Old Hwy 64 West  Lexington NC 
	27295
GEO:35.8278302;-80.2827189
END:VEVENT
END:VCALENDAR