BEGIN:VCALENDAR
VERSION:2.0
PRODID:-//Tukios.com/
BEGIN:VEVENT
UID:ce7b9736-de03-4b84-84ea-20cb76665460@www.davidsonfuneralhome.net
DTSTAMP:20260424T213834Z
DTSTART:20260428T140000Z
DTEND:20260428T150000Z
SUMMARY:Visitation
DESCRIPTION:
URL:https://www.davidsonfuneralhome.net/obituaries/maria-kreuger
LOCATION: 301 N Main St  Lexington NC 27292
GEO:35.8254785;-80.2501789
END:VEVENT
END:VCALENDAR