BEGIN:VCALENDAR
VERSION:2.0
PRODID:-//Tukios.com/
BEGIN:VEVENT
UID:148b3fb7-4fb7-4bcc-944a-c5721b148c8c@www.davidsonfuneralhome.net
DTSTAMP:20260424T003344Z
DTSTART:20260426T170000Z
DTEND:20260426T180000Z
SUMMARY:Visitation
DESCRIPTION:
URL:https://www.davidsonfuneralhome.net/obituaries/peggy-shipton
LOCATION: 301 N Main St  Lexington NC 27292
GEO:35.8254785;-80.2501789
END:VEVENT
END:VCALENDAR