BEGIN:VCALENDAR
VERSION:2.0
PRODID:-//Tukios.com/
BEGIN:VEVENT
UID:44b5bbbf-4885-4f2b-a1f8-c457e576e7e3@www.davidsonfuneralhome.net
DTSTAMP:20260424T003432Z
DTSTART:20260426T180000Z
DTEND:20260426T190000Z
SUMMARY:Funeral Service
DESCRIPTION:
URL:https://www.davidsonfuneralhome.net/obituaries/peggy-shipton
LOCATION: 301 N Main St  Lexington NC 27292
GEO:35.8254785;-80.2501789
END:VEVENT
END:VCALENDAR